BEGIN:VCALENDAR
VERSION:2.0
PRODID:-//110.4.45.42//NONSGML kigkonsult.se iCalcreator 2.20//
CALSCALE:GREGORIAN
METHOD:PUBLISH
X-WR-TIMEZONE:Asia/Kuala_Lumpur
BEGIN:VEVENT
UID:event14@Penang Hill Corporation
DTSTAMP:20260422T084918Z
CATEGORIES:PHC Events
DESCRIPTION:Delightful Deepavali\nCategory: PHC Events\nLink: https://penan
 ghill.gov.my/index.php?option=com_jem&view=event&id=14:delightful-deepaval
 i\n
DTSTART;VALUE=DATE:20211106
DTEND;VALUE=DATE:20211107
SUMMARY:Delightful Deepavali
URL:https://penanghill.gov.my/index.php?option=com_jem&view=event&id=14:del
 ightful-deepavali
END:VEVENT
END:VCALENDAR
