BEGIN:VCALENDAR
VERSION:2.0
PRODID:-//110.4.45.42//NONSGML kigkonsult.se iCalcreator 2.20//
CALSCALE:GREGORIAN
METHOD:PUBLISH
X-WR-TIMEZONE:Asia/Kuala_Lumpur
BEGIN:VEVENT
UID:event13@Penang Hill Corporation
DTSTAMP:20260419T152921Z
CATEGORIES:PHC Events
DESCRIPTION:Trash Free Hill 2026\nCategory: PHC Events\nLink: https://penan
 ghill.gov.my/index.php?option=com_jem&view=event&id=13:trash-free-hill-tfh
 \n
DTSTART;VALUE=DATE:20260621
DTEND;VALUE=DATE:20260622
SUMMARY:Trash Free Hill 2026
URL:https://penanghill.gov.my/index.php?option=com_jem&view=event&id=13:tra
 sh-free-hill-tfh
END:VEVENT
BEGIN:VEVENT
UID:event11@Penang Hill Corporation
DTSTAMP:20260419T152921Z
CATEGORIES:PHC Events
DESCRIPTION:Penang Hill Festival 2026\nCategory: PHC Events\nLink: https://
 penanghill.gov.my/index.php?option=com_jem&view=event&id=11:penang-hill-fe
 stival\n
DTSTART;VALUE=DATE:20260717
DTEND;VALUE=DATE:20260720
SUMMARY:Penang Hill Festival 2026
URL:https://penanghill.gov.my/index.php?option=com_jem&view=event&id=11:pen
 ang-hill-festival
END:VEVENT
BEGIN:VEVENT
UID:event12@Penang Hill Corporation
DTSTAMP:20260419T152921Z
CATEGORIES:PHC Events
DESCRIPTION:Penang Hill Heritage Forest Challenge 2026\nCategory: PHC Event
 s\nLink: https://penanghill.gov.my/index.php?option=com_jem&view=event&id=
 12:phhfc\n
DTSTART;VALUE=DATE:20260816
DTEND;VALUE=DATE:20260817
SUMMARY:Penang Hill Heritage Forest Challenge 2026
URL:https://penanghill.gov.my/index.php?option=com_jem&view=event&id=12:phh
 fc
END:VEVENT
END:VCALENDAR
