BEGIN:VCALENDAR
VERSION:2.0
PRODID:-//110.4.45.42//NONSGML kigkonsult.se iCalcreator 2.20//
CALSCALE:GREGORIAN
METHOD:PUBLISH
X-WR-TIMEZONE:Asia/Kuala_Lumpur
BEGIN:VEVENT
UID:event11@Penang Hill Corporation
DTSTAMP:20260422T084343Z
CATEGORIES:PHC Events
DESCRIPTION:Penang Hill Festival 2026\nCategory: PHC Events\nLink: https://
 penanghill.gov.my/index.php?option=com_jem&view=event&id=11:penang-hill-fe
 stival\n
DTSTART;VALUE=DATE:20260717
DTEND;VALUE=DATE:20260720
SUMMARY:Penang Hill Festival 2026
URL:https://penanghill.gov.my/index.php?option=com_jem&view=event&id=11:pen
 ang-hill-festival
END:VEVENT
END:VCALENDAR
